BEGIN:VCALENDAR
VERSION:2.0
PRODID:-//Tukios.com/
BEGIN:VEVENT
UID:d69fb709-29e1-4b7d-87f6-09b445862137@www.schaudtfuneralservice.com
DTSTAMP:20260420T233409Z
DTSTART:20260428T190000Z
DTEND:20260428T200000Z
SUMMARY:Graveside Service
DESCRIPTION:
URL:https://www.schaudtfuneralservice.com/obituaries/sandra-schmidt
LOCATION:     
GEO:0;0
END:VEVENT
END:VCALENDAR