BEGIN:VCALENDAR
VERSION:2.0
PRODID:-//Tukios.com/
BEGIN:VEVENT
UID:f5f9df9e-fde3-4170-8913-902430189cce@www.schaudtfuneralservice.com
DTSTAMP:20260420T233730Z
DTSTART:20260427T210000Z
DTEND:20260428T000000Z
SUMMARY:Public Viewing/Visitation
DESCRIPTION:
URL:https://www.schaudtfuneralservice.com/obituaries/sandra-schmidt
LOCATION:Schaudt’s Glenpool-Bixby Funeral Service & Cremation Care 
	Centers 1329 East 151st Street South  Glenpool OK 74033
GEO:35.9460816;-95.9875127
END:VEVENT
END:VCALENDAR