BEGIN:VCALENDAR
VERSION:2.0
PRODID:-//Tukios.com/
BEGIN:VEVENT
UID:ca3230c1-028f-4284-97eb-e6d8a097eebc@www.schaudtfuneralservice.com
DTSTAMP:20260424T212331Z
DTSTART:20260504T190000Z
DTEND:20260504T200000Z
SUMMARY:Memorial Service
DESCRIPTION:
URL:https://www.schaudtfuneralservice.com/obituaries/mark-allen
LOCATION:Schaudt’s Glenpool-Bixby Funeral Service & Cremation Care 
	Centers 1329 East 151st Street South  Glenpool OK 74033
GEO:35.9460816;-95.9875127
END:VEVENT
END:VCALENDAR