BEGIN:VCALENDAR
VERSION:2.0
PRODID:-//Tukios.com/
BEGIN:VEVENT
UID:978ff636-b2fb-4f38-b6c9-a2f60cdc05ff@www.schaudtfuneralservice.com
DTSTAMP:20260424T212935Z
DTSTART:20260504T200000Z
DTEND:20260504T210000Z
SUMMARY:Reception
DESCRIPTION:
URL:https://www.schaudtfuneralservice.com/obituaries/mark-allen
LOCATION:Schaudt’s Glenpool-Bixby Funeral Service Reception Room 1329 E 
	151ST ST S  Glenpool OK 74033
GEO:35.9460816;-95.9875127
END:VEVENT
END:VCALENDAR