BEGIN:VCALENDAR
VERSION:2.0
PRODID:-//Tukios.com/
BEGIN:VEVENT
UID:ebb27774-7fd4-4d31-8d1e-ba996d70b6fd@www.schaudtfuneralservice.com
DTSTAMP:20260425T010341Z
DTSTART:20260429T150000Z
DTEND:20260429T160000Z
SUMMARY:Funeral Service
DESCRIPTION:
URL:https://www.schaudtfuneralservice.com/obituaries/lois-britt
LOCATION:Woodcrest Freewill Baptist Church 19250 E Pine St  Catoosa OK 
	74015
GEO:36.1765612;-95.7624554
END:VEVENT
END:VCALENDAR