BEGIN:VCALENDAR
VERSION:2.0
PRODID:-//Tukios.com/
BEGIN:VEVENT
UID:8ac68e85-f619-4213-9db5-bafb1db5a7f0@www.schaudtfuneralservice.com
DTSTAMP:20260425T010330Z
DTSTART:20260428T180000Z
DTEND:20260429T010000Z
SUMMARY:Public Viewing/Visitation
DESCRIPTION:
URL:https://www.schaudtfuneralservice.com/obituaries/lois-britt
LOCATION:Schaudt’s Glenpool-Bixby Funeral Service & Cremation Care 
	Centers 1329 East 151st Street South  Glenpool OK 74033
GEO:35.9460816;-95.9875127
END:VEVENT
END:VCALENDAR