BEGIN:VCALENDAR
VERSION:2.0
PRODID:-//Tukios.com/
BEGIN:VEVENT
UID:f5544f28-f702-41af-ad36-cc10d4d6d154@www.schaudtfuneralservice.com
DTSTAMP:20260422T004856Z
DTSTART:20260516T150000Z
DTEND:20260516T160000Z
SUMMARY:Celebration of Life
DESCRIPTION:
URL:https://www.schaudtfuneralservice.com/obituaries/griffin-parker
LOCATION:Life Church South Tulsa 7071 East 121st St S  Bixby OK 74008
GEO:35.9891822;-95.8984664
END:VEVENT
END:VCALENDAR