BEGIN:VCALENDAR
VERSION:2.0
PRODID:-//Tukios.com/
BEGIN:VEVENT
UID:5018408b-4bd6-41f8-b619-3d43ed0f5f1a@www.schaudtfuneralservice.com
DTSTAMP:20260422T190320Z
DTSTART:20260424T150000Z
DTEND:20260424T153000Z
SUMMARY:Graveside Service
DESCRIPTION:
URL:https://www.schaudtfuneralservice.com/obituaries/dennis-hayes
LOCATION:Ft. Gibson National Cemetery 1423 Cemetery Road  Fort Gibson OK 
	74434
GEO:35.8039482;-95.2292987
END:VEVENT
END:VCALENDAR